BEGIN:VCALENDAR
VERSION:2.0
PRODID:-// - ECPv6.15.16//NONSGML v1.0//EN
CALSCALE:GREGORIAN
METHOD:PUBLISH
X-ORIGINAL-URL:https://dublinpride.ie
X-WR-CALDESC:Events for 
REFRESH-INTERVAL;VALUE=DURATION:PT1H
X-Robots-Tag:noindex
X-PUBLISHED-TTL:PT1H
BEGIN:VTIMEZONE
TZID:Europe/Paris
BEGIN:DAYLIGHT
TZOFFSETFROM:+0100
TZOFFSETTO:+0200
TZNAME:CEST
DTSTART:20250330T010000
END:DAYLIGHT
BEGIN:STANDARD
TZOFFSETFROM:+0200
TZOFFSETTO:+0100
TZNAME:CET
DTSTART:20251026T010000
END:STANDARD
BEGIN:DAYLIGHT
TZOFFSETFROM:+0100
TZOFFSETTO:+0200
TZNAME:CEST
DTSTART:20260329T010000
END:DAYLIGHT
BEGIN:STANDARD
TZOFFSETFROM:+0200
TZOFFSETTO:+0100
TZNAME:CET
DTSTART:20261025T010000
END:STANDARD
BEGIN:DAYLIGHT
TZOFFSETFROM:+0100
TZOFFSETTO:+0200
TZNAME:CEST
DTSTART:20270328T010000
END:DAYLIGHT
BEGIN:STANDARD
TZOFFSETFROM:+0200
TZOFFSETTO:+0100
TZNAME:CET
DTSTART:20271031T010000
END:STANDARD
END:VTIMEZONE
BEGIN:VEVENT
DTSTART;TZID=Europe/Paris:20260618T090000
DTEND;TZID=Europe/Paris:20260618T180000
DTSTAMP:20260422T060551
CREATED:20260311T170344Z
LAST-MODIFIED:20260311T173119Z
UID:6911-1781773200-1781805600@dublinpride.ie
SUMMARY:An Chomhdháil Aiteach
DESCRIPTION:GET TICKETS\n\n\n\n\n\n\nThis event will bring together researchers and artists for a day-conference of academic papers and artistic performances exploring LGBTQ+ Irish-language society and its culture. The conference will be held in Irish with English interpretation. Tabharfaidh an ócáid ​​seo taighdeoirí agus ealaíontóirí le chéile le haghaidh comhdháil lae de pháipéir acadúla agus léirithe ealaíonta a scrúdóidh sochaí LGBTQ+ na Gaeilge agus a cultúr. Beidh an chomhdháil ar siúl i nGaeilge le haistriúchán Béarla. \n\n\n\n\n\n\nWheelchair accessible venue\n\n\n\nSuitable for all ages
URL:https://dublinpride.ie/event/an-chomhdhail-aiteach/
LOCATION:Trapdoor Theatre\, Newman Building\, UCD\, Belfield\, D04 F6X4\, Ireland
ATTACH;FMTTYPE=image/png:https://dublinpride.ie/wp-content/uploads/2026/03/Comhdhail-Aiteach.png
END:VEVENT
BEGIN:VEVENT
DTSTART;TZID=Europe/Paris:20260624T183000
DTEND;TZID=Europe/Paris:20260624T203000
DTSTAMP:20260422T060551
CREATED:20260318T133924Z
LAST-MODIFIED:20260421T144516Z
UID:6923-1782325800-1782333000@dublinpride.ie
SUMMARY:Improving Care for Older LGBTQIA+ People
DESCRIPTION:BOOK NOW\n\n\n\n\n\n\n\n\n\n\n\n\n\n\n\n\nThis event will bring together researchers and artists for a day-conference of academic papers and artistic performances exploring LGBTQ+ Irish-language society and its culture.  \n\n\n\n\n\n\nAlcohol-free
URL:https://dublinpride.ie/event/improving-care-for-older-lgbtqia-people/
LOCATION:Outhouse\, 105 Capel Street\, Dublin 1\, Dublin 1\, D01 R290\, Ireland
ATTACH;FMTTYPE=image/png:https://dublinpride.ie/wp-content/uploads/2026/03/Championing-Inclusive-Care-2160-x-1080-px-1.png
END:VEVENT
BEGIN:VEVENT
DTSTART;TZID=Europe/Paris:20260625T100000
DTEND;TZID=Europe/Paris:20260625T120000
DTSTAMP:20260422T060551
CREATED:20260420T142244Z
LAST-MODIFIED:20260420T142257Z
UID:7072-1782381600-1782388800@dublinpride.ie
SUMMARY:Pride At Work Coffee Club Pride Special
DESCRIPTION:REGISTER\n\n\n\n\n\n\n\n\nWith Dublin Pride just around the corner\, our June Coffee Club is delighted to welcome a very special guest\, Stonewall veteran and lifelong activist\, Jay Toole (she/her). \n\n\n\nJay Toole is a Stonewall veteran and longtime LGBTQ+ activist who has spent decades advocating for queer and economically marginalized people in New York City. Born in the South Bronx in 1948\, she survived homelessness\, addiction\, incarceration\, and violence before becoming a co-founder and later the shelter program director of Queers for Economic Justice\, where she helped make NYC shelters safer for queer people. Toole is also known for sharing her history through walking tours of Greenwich Village\, preserving the memory of Stonewall and the communities that shaped queer liberation. \n\n\n\nAGENDA \n\n\n\n10.00-10.30 Coffee and Networking \n\n\n\n10.30-11.30 Alex Campbell in conversation with Jay Toole \n\n\n\n11.30-12.00 Coffee and Networking
URL:https://dublinpride.ie/event/pride-at-work-coffee-club-pride-special/
LOCATION:Dublin 1
ATTACH;FMTTYPE=image/png:https://dublinpride.ie/wp-content/uploads/2026/04/jt-coffeeclub-eventbrite.png
ORGANIZER;CN="Pride At Work":MAILTO:hello@prideatwork.ie
END:VEVENT
BEGIN:VEVENT
DTSTART;TZID=Europe/Paris:20260626T190000
DTEND;TZID=Europe/Paris:20260626T230000
DTSTAMP:20260422T060551
CREATED:20260420T143734Z
LAST-MODIFIED:20260420T143929Z
UID:7075-1782500400-1782514800@dublinpride.ie
SUMMARY:Friday Night Live - Friday\, 26th June with Juno Birch
DESCRIPTION:GET TICKETS\n\n\n\n\n\n\n\n\nJuno Birch performs at The Laughter Lounge – Ireland’s Biggest Stand-Up Comedy Club! With her iconic silver skin\, towering wigs\, and unshakable devotion to reality TV and aliens\, Juno delivers deadpan surrealism wrapped in sequins. She’s been described as “David Lynch meets a Sims character who’s had too much espresso.” Whether she’s deconstructing suburban nonsense or celebrating chaos in stilettos\, Juno brings an otherworldly charm to every stage. \n\n\n\n\nWheelchair Accessible\n\n\n\n18+
URL:https://dublinpride.ie/event/friday-night-live-friday-26th-june-with-juno-birch/
LOCATION:The Laughter Lounge\, 4-8 Eden Quay\, Dublin 1\, D01 WY93\, Ireland
ATTACH;FMTTYPE=image/png:https://dublinpride.ie/wp-content/uploads/2026/04/PRIDE-EVENT-IMAGE-scaled.png
END:VEVENT
BEGIN:VEVENT
DTSTART;TZID=Europe/Paris:20260627T103000
DTEND;TZID=Europe/Paris:20260627T113000
DTSTAMP:20260422T060551
CREATED:20260421T145542Z
LAST-MODIFIED:20260421T145549Z
UID:7089-1782556200-1782559800@dublinpride.ie
SUMMARY:Pride Tour - GPO Museum
DESCRIPTION:GET TICKETS\n\n\n\n\n\n\n\n\nJoin us at the GPO Museum for this special guided tour that will explore the lives\, relationships and roles of the LGBTQ+ community\, whose impact on Irish history is often unrecognised. Your guide will bring you through the difficulties faced by queer individuals in the 20th century and how their efforts towards Irish independence and equality cannot be understated. Please note this tour includes descriptions of violence and may not be suitable for children under the age of 12. \n\n\n\n\nWheelchair accessible venue
URL:https://dublinpride.ie/event/pride-tour-gpo-museum/
LOCATION:GPO Museum\, Saturday Night Live - Saturday\, 27th June with Juno Birch
ATTACH;FMTTYPE=image/png:https://dublinpride.ie/wp-content/uploads/2026/04/Pride-Tour-Website-Image-1920-x-1080-px.png
END:VEVENT
BEGIN:VEVENT
DTSTART;TZID=Europe/Paris:20260627T190000
DTEND;TZID=Europe/Paris:20260627T230000
DTSTAMP:20260422T060551
CREATED:20260420T144504Z
LAST-MODIFIED:20260420T144517Z
UID:7082-1782586800-1782601200@dublinpride.ie
SUMMARY:Saturday Night Live - Saturday\, 27th June with Juno Birch
DESCRIPTION:GET TICKETS\n\n\n\n\n\n\n\n\nJuno Birch performs at The Laughter Lounge – Ireland’s Biggest Stand-Up Comedy Club! With her iconic silver skin\, towering wigs\, and unshakable devotion to reality TV and aliens\, Juno delivers deadpan surrealism wrapped in sequins. She’s been described as “David Lynch meets a Sims character who’s had too much espresso.” Whether she’s deconstructing suburban nonsense or celebrating chaos in stilettos\, Juno brings an otherworldly charm to every stage. \n\n\n\n\nWheelchair Accessible\n\n\n\n18+
URL:https://dublinpride.ie/event/saturday-night-live-saturday-27th-june-with-juno-birch/
LOCATION:The Laughter Lounge\, 4-8 Eden Quay\, Dublin 1\, D01 WY93\, Ireland
ATTACH;FMTTYPE=image/png:https://dublinpride.ie/wp-content/uploads/2026/04/PRIDE-EVENT-IMAGE-scaled.png
END:VEVENT
END:VCALENDAR