BEGIN:VCALENDAR
VERSION:2.0
PRODID:-// - ECPv6.15.16//NONSGML v1.0//EN
CALSCALE:GREGORIAN
METHOD:PUBLISH
X-ORIGINAL-URL:https://dublinpride.ie
X-WR-CALDESC:Events for 
REFRESH-INTERVAL;VALUE=DURATION:PT1H
X-Robots-Tag:noindex
X-PUBLISHED-TTL:PT1H
BEGIN:VTIMEZONE
TZID:Europe/Paris
BEGIN:DAYLIGHT
TZOFFSETFROM:+0100
TZOFFSETTO:+0200
TZNAME:CEST
DTSTART:20240331T010000
END:DAYLIGHT
BEGIN:STANDARD
TZOFFSETFROM:+0200
TZOFFSETTO:+0100
TZNAME:CET
DTSTART:20241027T010000
END:STANDARD
BEGIN:DAYLIGHT
TZOFFSETFROM:+0100
TZOFFSETTO:+0200
TZNAME:CEST
DTSTART:20250330T010000
END:DAYLIGHT
BEGIN:STANDARD
TZOFFSETFROM:+0200
TZOFFSETTO:+0100
TZNAME:CET
DTSTART:20251026T010000
END:STANDARD
BEGIN:DAYLIGHT
TZOFFSETFROM:+0100
TZOFFSETTO:+0200
TZNAME:CEST
DTSTART:20260329T010000
END:DAYLIGHT
BEGIN:STANDARD
TZOFFSETFROM:+0200
TZOFFSETTO:+0100
TZNAME:CET
DTSTART:20261025T010000
END:STANDARD
END:VTIMEZONE
BEGIN:VEVENT
DTSTART;TZID=Europe/Paris:20250603T000000
DTEND;TZID=Europe/Paris:20250701T235959
DTSTAMP:20260425T140336
CREATED:20250529T111709Z
LAST-MODIFIED:20250529T111717Z
UID:6265-1748908800-1751414399@dublinpride.ie
SUMMARY:YES+10: The Journey Continues
DESCRIPTION:Celebrate 10 years since Marriage Equality with our exhibition\, in partnership with GCN.
URL:https://dublinpride.ie/event/yes10-the-journey-continues/
LOCATION:Outhouse\, 105 Capel Street\, Dublin 1\, Dublin 1\, D01 R290\, Ireland
ATTACH;FMTTYPE=image/jpeg:https://dublinpride.ie/wp-content/uploads/2025/05/PHOTO-2025-05-29-12-16-44.jpg
END:VEVENT
BEGIN:VEVENT
DTSTART;TZID=Europe/Paris:20250619T000000
DTEND;TZID=Europe/Paris:20250702T235959
DTSTAMP:20260425T140336
CREATED:20250605T160248Z
LAST-MODIFIED:20250606T113834Z
UID:6320-1750291200-1751500799@dublinpride.ie
SUMMARY:Living Canvas at IMMA 'laying fire' by Jessica Lauren Elizabeth Taylor
DESCRIPTION:laying fire (2023) \n\n\n\nHD video\, colour\, sound; 16:23 minutes \n\n\n\n\n\n\n\n\n\n\n\n\n\n\n\n\n\n\n\n\n\n\n\nJessica Lauren Elizabeth Taylor\, laying fire (2023). Film still courtesy the artist. \n\n\n\nPlease note: The film contains language that some viewers may feel is unsuitable for young children. \n\n\n\nlaying fire by Jessica Lauren Elizabeth Taylor is an experimental memory work on intimacy. Using real life portraits of queer Black Norwegian femmes\, the film explores revolutionary ways of being in partnership with our beloveds and ourselves. The film questions societal expectations of gender and sexuality and how to interrogate these expectations through a queer Black lens. \n\n\n\nThe initiative to archive narratives about queer Afro-Norwegian in the Nordics arose from questions about the politics of intimacy. Queer intimacy in all its forms is politicised in many societies around the world\, from over 200 anti-LGBT bills filed in the United States in 2022 to more than 60 countries across the globe with national laws criminalising same sex relations. Images of queer Black intimacy are rarely shown in a positive\, stable and affirming light\, where stories from these intersecting communities are rarely amplified in mainstream media. laying fire proposes a rebuke to the policing and erasure of queer Black intimacy.
URL:https://dublinpride.ie/event/living-canvas-at-imma-laying-fire-by-jessica-lauren-elizabeth-taylor/
LOCATION:Irish Museum of Modern Art\, Royal Hospital Kilmainham\, Dublin 8\, Dublin 8\, D08 FW31\, Ireland
ATTACH;FMTTYPE=image/png:https://dublinpride.ie/wp-content/uploads/2025/06/Taylor-layingfire-video-still1-.png
END:VEVENT
BEGIN:VEVENT
DTSTART;TZID=Europe/Paris:20250622T110000
DTEND;TZID=Europe/Paris:20250622T163000
DTSTAMP:20260425T140337
CREATED:20250606T134641Z
LAST-MODIFIED:20250606T134652Z
UID:6362-1750590000-1750609800@dublinpride.ie
SUMMARY:Pride Mug Making ceramics workshop
DESCRIPTION:Pride Mug-Making Ceramic Workshop with Karo Art @ Gallery Zozimus! Celebrate Pride with clay\, creativity\, and community! Join us on Sunday\, 22nd June for a fun and welcoming ceramic workshop at Gallery Zozimus\, where you’ll hand-build and decorate your own ceramic mug—go full rainbow\, add a unicorn\, or create something totally YOU. Choose your time: 11AM or 2PM Hosted by ceramicist Karo (Karo Art) Location: Gallery Zozimus 25% of profits go to Belong To\, supporting LGBTQ+ youth in Ireland Mugs \n\n\n\n\nBOOK TICKETS
URL:https://dublinpride.ie/event/pride-mug-making-ceramics-workshop/
LOCATION:Gallery Zozimus\, 51 Francis Street\, Dublin 8\, Dublin 8\, D08 TP27\, Ireland
ATTACH;FMTTYPE=image/png:https://dublinpride.ie/wp-content/uploads/2025/06/Pride-event-header-1.png
END:VEVENT
BEGIN:VEVENT
DTSTART;TZID=Europe/Paris:20250622T113000
DTEND;TZID=Europe/Paris:20250622T123000
DTSTAMP:20260425T140337
CREATED:20250506T150350Z
LAST-MODIFIED:20250506T150356Z
UID:6074-1750591800-1750595400@dublinpride.ie
SUMMARY:Public Tour: LGBTQIA+ Artworks
DESCRIPTION:Join us for a free guided tour exploring a selection of works in the National Gallery of Ireland that are connected to the lesbian\, gay\, bisexual\, transgender and queer community. Your tour guide will encourage you to look more closely at art and to question the seemingly heteronormative histories that go with it.
URL:https://dublinpride.ie/event/public-tour-lgbtqia-artworks/
LOCATION:National Gallery of Ireland\, Merrion Square W\, Dublin 2\, Dublin\, D02 K303\, Ireland
ATTACH;FMTTYPE=image/jpeg:https://dublinpride.ie/wp-content/uploads/2025/05/visitor-irish-rooms-milltown-photo-jack-caffrey.-the-pimlico-project_0.jpg
END:VEVENT
BEGIN:VEVENT
DTSTART;TZID=Europe/Paris:20250622T140000
DTEND;TZID=Europe/Paris:20250622T160000
DTSTAMP:20260425T140337
CREATED:20250606T095654Z
LAST-MODIFIED:20250606T103139Z
UID:6328-1750600800-1750608000@dublinpride.ie
SUMMARY:Explorer Family Art Workshop: Pride Edition as part of our Family Pride Day
DESCRIPTION:Explorer Family Art Workshop\n\n\n\nLocation: Matheson Creativity Hub. \n\n\n\nFree\, drop in\, no booking required.  \n\n\n\nEnjoy some creative time with your family with our Pride special edition of our Family Explorer Art workshops. Based on artworks from IMMA’s exhibitions\, families can discover their inner artist while having fun and creating amazing masterpieces. Led by our Visitor Engagement Team\, this is a wonderful family experience. Art materials are provided by IMMA. \n\n\n\nIMMA Explorer Art workshops is a drop in session which takes place from 2pm – 4pm. We would like to invite families to join us for our LGBTQ+ inclusive céilí at 4pm.
URL:https://dublinpride.ie/event/explorer-family-art-workshop-pride-edition-as-part-of-our-family-pride-day/
LOCATION:Irish Museum of Modern Art\, Royal Hospital Kilmainham\, Dublin 8\, Dublin 8\, D08 FW31\, Ireland
ATTACH;FMTTYPE=image/jpeg:https://dublinpride.ie/wp-content/uploads/2025/06/explorer-pride.jpg
END:VEVENT
BEGIN:VEVENT
DTSTART;TZID=Europe/Paris:20250622T160000
DTEND;TZID=Europe/Paris:20250622T170000
DTSTAMP:20260425T140337
CREATED:20250606T130632Z
LAST-MODIFIED:20250606T130734Z
UID:6343-1750608000-1750611600@dublinpride.ie
SUMMARY:LGBTQ+ Inclusive Céilí
DESCRIPTION:Location: The People’s Pavilion \n\n\n\nFree\, all welcome!  \n\n\n\nJoin Wayne from Webster Irish Dance Academy for a fun\, friendly\, and inclusive Irish and Céilé dancing class! In this class\, we’ll cover the basic Irish dancing steps and learn some fun ceilí dances like Shoe the Donkey and The Walls of Limerick. This class is open to everyone — no matter your experience or background. \n\n\n\nWayne has been dancing since he was five years old and has won many awards\, including the Leinster Championship. For the past three years\, Wayne has been organising Irish dance and ceilí classes specifically for the LGBTQ+ community\, creating a warm and supportive space where all are welcome. Whether you’re completely new to Irish dance or have some experience\, this is the perfect chance to have fun\, learn something new\, and connect with others in a joyful and inclusive environment. \n\n\n\nFor more information on Wayne’s classes\, you can check out this article: Meet the queer Irish dancer bringing LGBTQ+ friendly classes to Dublin \n\n\n\n\nBOOK TICKETS
URL:https://dublinpride.ie/event/lgbtq-inclusive-ceili/
LOCATION:Irish Museum of Modern Art\, Royal Hospital Kilmainham\, Dublin 8\, Dublin 8\, D08 FW31\, Ireland
ATTACH;FMTTYPE=image/jpeg:https://dublinpride.ie/wp-content/uploads/2025/06/Wayne-webster-dancing-academy.jpg
END:VEVENT
BEGIN:VEVENT
DTSTART;TZID=Europe/Paris:20250622T160000
DTEND;TZID=Europe/Paris:20250622T170000
DTSTAMP:20260425T140337
CREATED:20250606T133118Z
LAST-MODIFIED:20250619T164543Z
UID:6352-1750608000-1750611600@dublinpride.ie
SUMMARY:Where Are We Now\, Together?
DESCRIPTION:A showing of our socially-engaged arts project\, in the form of a theatre/poetry reading/sharing show. The piece is all about examining where the adult LGBTQ+ community is at\, and explores themes of safety\, representation and preparing for oncoming storms. We have just performed in Street 66\, after a six-month-long process of research\, relationship\, artistic development and devising that has brought all performers and facilitator Hannah Scrine together in a united\, authentic response to the now.
URL:https://dublinpride.ie/event/where-are-we-now-together/
LOCATION:F2 Community Centre\, 3 Reuben Plaza\, Dublin 8\, D08 DKP6\, Ireland
ATTACH;FMTTYPE=image/jpeg:https://dublinpride.ie/wp-content/uploads/2025/06/f5bd2901-9207-40c0-984e-c0e124603b50.jpeg
END:VEVENT
BEGIN:VEVENT
DTSTART;TZID=Europe/Paris:20250622T180000
DTEND;TZID=Europe/Paris:20250622T190000
DTSTAMP:20260425T140337
CREATED:20250619T124038Z
LAST-MODIFIED:20250619T124045Z
UID:6495-1750615200-1750618800@dublinpride.ie
SUMMARY:Kate\, Allie and the '86 Mets
DESCRIPTION:Two divorced best friends\, inspired by the 1986 hit sitcom “Kate and Allie” move their families in together to solve the problems of single motherhood. The eldest daughter\, Kate\, tells their decades-long\, real life story of finding true love. \n\n\n\n\n\n\nGET TICKETS
URL:https://dublinpride.ie/event/kate-allie-and-the-86-mets/
ATTACH;FMTTYPE=image/png:https://dublinpride.ie/wp-content/uploads/2025/06/KateAllie-listing.png
END:VEVENT
END:VCALENDAR