BEGIN:VCALENDAR
VERSION:2.0
PRODID:-// - ECPv6.15.16//NONSGML v1.0//EN
CALSCALE:GREGORIAN
METHOD:PUBLISH
X-ORIGINAL-URL:https://dublinpride.ie
X-WR-CALDESC:Events for 
REFRESH-INTERVAL;VALUE=DURATION:PT1H
X-Robots-Tag:noindex
X-PUBLISHED-TTL:PT1H
BEGIN:VTIMEZONE
TZID:Europe/Paris
BEGIN:DAYLIGHT
TZOFFSETFROM:+0100
TZOFFSETTO:+0200
TZNAME:CEST
DTSTART:20240331T010000
END:DAYLIGHT
BEGIN:STANDARD
TZOFFSETFROM:+0200
TZOFFSETTO:+0100
TZNAME:CET
DTSTART:20241027T010000
END:STANDARD
BEGIN:DAYLIGHT
TZOFFSETFROM:+0100
TZOFFSETTO:+0200
TZNAME:CEST
DTSTART:20250330T010000
END:DAYLIGHT
BEGIN:STANDARD
TZOFFSETFROM:+0200
TZOFFSETTO:+0100
TZNAME:CET
DTSTART:20251026T010000
END:STANDARD
BEGIN:DAYLIGHT
TZOFFSETFROM:+0100
TZOFFSETTO:+0200
TZNAME:CEST
DTSTART:20260329T010000
END:DAYLIGHT
BEGIN:STANDARD
TZOFFSETFROM:+0200
TZOFFSETTO:+0100
TZNAME:CET
DTSTART:20261025T010000
END:STANDARD
END:VTIMEZONE
BEGIN:VEVENT
DTSTART;TZID=Europe/Paris:20250603T000000
DTEND;TZID=Europe/Paris:20250701T235959
DTSTAMP:20260425T123413
CREATED:20250529T111709Z
LAST-MODIFIED:20250529T111717Z
UID:6265-1748908800-1751414399@dublinpride.ie
SUMMARY:YES+10: The Journey Continues
DESCRIPTION:Celebrate 10 years since Marriage Equality with our exhibition\, in partnership with GCN.
URL:https://dublinpride.ie/event/yes10-the-journey-continues/
LOCATION:Outhouse\, 105 Capel Street\, Dublin 1\, Dublin 1\, D01 R290\, Ireland
ATTACH;FMTTYPE=image/jpeg:https://dublinpride.ie/wp-content/uploads/2025/05/PHOTO-2025-05-29-12-16-44.jpg
END:VEVENT
BEGIN:VEVENT
DTSTART;TZID=Europe/Paris:20250619T000000
DTEND;TZID=Europe/Paris:20250702T235959
DTSTAMP:20260425T123413
CREATED:20250605T160248Z
LAST-MODIFIED:20250606T113834Z
UID:6320-1750291200-1751500799@dublinpride.ie
SUMMARY:Living Canvas at IMMA 'laying fire' by Jessica Lauren Elizabeth Taylor
DESCRIPTION:laying fire (2023) \n\n\n\nHD video\, colour\, sound; 16:23 minutes \n\n\n\n\n\n\n\n\n\n\n\n\n\n\n\n\n\n\n\n\n\n\n\nJessica Lauren Elizabeth Taylor\, laying fire (2023). Film still courtesy the artist. \n\n\n\nPlease note: The film contains language that some viewers may feel is unsuitable for young children. \n\n\n\nlaying fire by Jessica Lauren Elizabeth Taylor is an experimental memory work on intimacy. Using real life portraits of queer Black Norwegian femmes\, the film explores revolutionary ways of being in partnership with our beloveds and ourselves. The film questions societal expectations of gender and sexuality and how to interrogate these expectations through a queer Black lens. \n\n\n\nThe initiative to archive narratives about queer Afro-Norwegian in the Nordics arose from questions about the politics of intimacy. Queer intimacy in all its forms is politicised in many societies around the world\, from over 200 anti-LGBT bills filed in the United States in 2022 to more than 60 countries across the globe with national laws criminalising same sex relations. Images of queer Black intimacy are rarely shown in a positive\, stable and affirming light\, where stories from these intersecting communities are rarely amplified in mainstream media. laying fire proposes a rebuke to the policing and erasure of queer Black intimacy.
URL:https://dublinpride.ie/event/living-canvas-at-imma-laying-fire-by-jessica-lauren-elizabeth-taylor/
LOCATION:Irish Museum of Modern Art\, Royal Hospital Kilmainham\, Dublin 8\, Dublin 8\, D08 FW31\, Ireland
ATTACH;FMTTYPE=image/png:https://dublinpride.ie/wp-content/uploads/2025/06/Taylor-layingfire-video-still1-.png
END:VEVENT
BEGIN:VEVENT
DTSTART;TZID=Europe/Paris:20250621T100000
DTEND;TZID=Europe/Paris:20250621T233000
DTSTAMP:20260425T123413
CREATED:20250609T175418Z
LAST-MODIFIED:20250609T175427Z
UID:6389-1750500000-1750548600@dublinpride.ie
SUMMARY:Queer History Tour of Kilmainham Gaol
DESCRIPTION:To mark Pride Month join us for a queer history tour of Kilmainham Gaol focusing on the lives of lesbian\, gay\, bisexual and transgender people connected with the prison\, including many who played a crucial role in the struggle for Irish Independence. \n\n\n\n\nBOOK TICKETS
URL:https://dublinpride.ie/event/queer-history-tour-of-kilmainham-gaol-3/
LOCATION:Kilmainham Gaol Museum\, Inchicore Road\, Dublin 8\, Dublin 8\, D08 T2X5\, Ireland
ATTACH;FMTTYPE=image/jpeg:https://dublinpride.ie/wp-content/uploads/2025/06/Clipboard02.jpg
END:VEVENT
BEGIN:VEVENT
DTSTART;TZID=Europe/Paris:20250621T110000
DTEND;TZID=Europe/Paris:20250621T122000
DTSTAMP:20260425T123413
CREATED:20250417T162346Z
LAST-MODIFIED:20250422T133143Z
UID:6023-1750503600-1750508400@dublinpride.ie
SUMMARY:Queer History of Dublin – Afternoon Tea Trip
DESCRIPTION:This Pride month hop on board and learn the history of Dublin through the eyes of Ireland’s queer community from the Vikings to modern day heroes. Indulge in afternoon tea delicacies while Leah takes you through the rich history\, infamous buildings and vibrant characters that make up Ireland’s LGBTQ+ community. This is an alcohol free\, family friendly event where everyone is welcome on board. 10% of all ticket sales will go to Belong To – LGBTQ+ Youth Ireland. \n\n\n\n\nBOOK TICKETS\n\n\n\n\n\n\n\n\n\n\n\n\n\n\n\n\n\n\n\n\n\nScreenshot\n\n\n\nScreenshot\n\n\n\nScreenshot\n\n\n\nScreenshot
URL:https://dublinpride.ie/event/queer-history-of-dublin-afternoon-tea-trip/
ATTACH;FMTTYPE=image/jpeg:https://dublinpride.ie/wp-content/uploads/2025/04/TFF9.jpg
END:VEVENT
BEGIN:VEVENT
DTSTART;TZID=Europe/Paris:20250621T113000
DTEND;TZID=Europe/Paris:20250621T123000
DTSTAMP:20260425T123414
CREATED:20250506T150615Z
LAST-MODIFIED:20250506T150622Z
UID:6080-1750505400-1750509000@dublinpride.ie
SUMMARY:Public Tour: Irish Sign Language Tour of LGBTQIA+ Artworks
DESCRIPTION:Join the National Gallery of Ireland’s Irish Sign Language tour guides for a look at highlights from the Gallery’s LGBTQIA+ collection. As the Gallery endeavours to make our activities and events accessible to the deaf community\, we wish to welcome members of the ISL community to the Gallery. This tour is exclusively in Irish Sign Language and will not have any translation available
URL:https://dublinpride.ie/event/public-tour-irish-sign-language-tour-of-lgbtqia-artworks/
LOCATION:National Gallery of Ireland\, Merrion Square W\, Dublin 2\, Dublin\, D02 K303\, Ireland
ATTACH;FMTTYPE=image/jpeg:https://dublinpride.ie/wp-content/uploads/2025/05/NGI-Friends-Tour-Room-2.jpg
END:VEVENT
BEGIN:VEVENT
DTSTART;TZID=Europe/Paris:20250621T120000
DTEND;TZID=Europe/Paris:20250621T180000
DTSTAMP:20260425T123414
CREATED:20250529T113838Z
LAST-MODIFIED:20250529T113844Z
UID:6284-1750507200-1750528800@dublinpride.ie
SUMMARY:Get Ready For Pride! Express Yourself!
DESCRIPTION:A day to get creative\, embrace your style\, and find your voice.
URL:https://dublinpride.ie/event/get-ready-for-pride-express-yourself/
LOCATION:Outhouse\, 105 Capel Street\, Dublin 1\, Dublin 1\, D01 R290\, Ireland
ATTACH;FMTTYPE=image/jpeg:https://dublinpride.ie/wp-content/uploads/2025/05/PHOTO-2025-05-29-12-16-44.jpg
END:VEVENT
BEGIN:VEVENT
DTSTART;TZID=Europe/Paris:20250621T130000
DTEND;TZID=Europe/Paris:20250621T143000
DTSTAMP:20260425T123414
CREATED:20250609T175149Z
LAST-MODIFIED:20250609T175156Z
UID:6387-1750510800-1750516200@dublinpride.ie
SUMMARY:Queer History Tour of Kilmainham Gaol
DESCRIPTION:To mark Pride Month join us for a queer history tour of Kilmainham Gaol focusing on the lives of lesbian\, gay\, bisexual and transgender people connected with the prison\, including many who played a crucial role in the struggle for Irish Independence. \n\n\n\n\nBOOK TICKETS
URL:https://dublinpride.ie/event/queer-history-tour-of-kilmainham-gaol-2/
LOCATION:Kilmainham Gaol Museum\, Inchicore Road\, Dublin 8\, Dublin 8\, D08 T2X5\, Ireland
ATTACH;FMTTYPE=image/jpeg:https://dublinpride.ie/wp-content/uploads/2025/06/Clipboard02.jpg
END:VEVENT
BEGIN:VEVENT
DTSTART;TZID=Europe/Paris:20250621T143000
DTEND;TZID=Europe/Paris:20250621T153000
DTSTAMP:20260425T123414
CREATED:20250605T160733Z
LAST-MODIFIED:20250606T122446Z
UID:6326-1750516200-1750519800@dublinpride.ie
SUMMARY:A Queer Eye on the Collection
DESCRIPTION:Meet at Main Reception \n\n\n\nFree\, drop in\, no booking required.  \n\n\n\nJoin us for a curated tour\, A Queer Eye on the Collection\, that offers a fresh perspective on artworks in IMMA’s Permanent Collection display IMMA Collection: Art As Agency. \n\n\n\nGuided by LGBTQ+ voices\, this experience explores how art has reflected\, shaped\, and sometimes hidden the stories of queer lives and identities. Delve into a reimagined narrative\, where history\, gender\, and sexuality intersect in unexpected ways. \n\n\n\nThrough insightful discussion\, this tour invites you to see the artworks in a new light\, revealing the diverse and often untold histories within our collection. \n\n\n\n\n\nPatrick Scott\, Gold Painting 47\, 1969\, Oil and gold leaf on linen\, Unframed\, 178.2 x 81.8 cm\, Collection Irish Museum of Modern Art\, Gordon Lambert Trust\, 1992.
URL:https://dublinpride.ie/event/a-queer-eye-on-the-collection/
LOCATION:Irish Museum of Modern Art\, Royal Hospital Kilmainham\, Dublin 8\, Dublin 8\, D08 FW31\, Ireland
ATTACH;FMTTYPE=image/jpeg:https://dublinpride.ie/wp-content/uploads/2025/06/queer-eye-on-the-collection-scaled.jpg
END:VEVENT
BEGIN:VEVENT
DTSTART;TZID=Europe/Paris:20250621T180000
DTEND;TZID=Europe/Paris:20250621T230000
DTSTAMP:20260425T123414
CREATED:20250512T112651Z
LAST-MODIFIED:20250512T112656Z
UID:6138-1750528800-1750546800@dublinpride.ie
SUMMARY:An Bál Aiteach
DESCRIPTION:Is é an Bál Aiteach an t-imeacht is galánta agus is glioscarnaí sa mbliain le haghaidh phobal LADTAIÉ+ na Gaeilge! Tá an Bál bunaithe ar bháil na ndaoine de dhath in Harlem sna 1970idí. Gléasann na rannpháirtithe de réir catagóire agus déanann siad iarracht dul i bhfeidhm ar na moltóirí le duaiseanna a bhuachan. Is iad seo a leanas catagóirí na bliana seo: Belle Feirste\, Camp-áil Féile\, Géabhlóid na hÉireann\, Táin Hoe \n\n\n\n\nFAIGH TICÉAD
URL:https://dublinpride.ie/event/an-bal-aiteach/
LOCATION:The Back Page\, 199 Bóthar Bhaile Phib\, Baile Phib\, Baile Átha Cliath\, D07 A0X2\, Ireland
ATTACH;FMTTYPE=image/jpeg:https://dublinpride.ie/wp-content/uploads/2025/05/Postaer-POST-scaled.jpg
END:VEVENT
BEGIN:VEVENT
DTSTART;TZID=Europe/Paris:20250621T193000
DTEND;TZID=Europe/Paris:20250621T223000
DTSTAMP:20260425T123414
CREATED:20250507T131157Z
LAST-MODIFIED:20250507T131203Z
UID:6116-1750534200-1750545000@dublinpride.ie
SUMMARY:GATECRASHES: HAUS OF WIG
DESCRIPTION:As part of our 2025 Pride GATECRASHES\, we proudly present HAUS OF WIG\, Ireland’s fiercest & most formidable drag haus. Drag triumvirate Haus of WIG have been stoking the flames of queer creativity in Dublin for the past six years with their sensational productions\, show-stopping performances and hearty commitment to community. Comprised of DONNA FELLA\, SHAQIRA KNIGHTLY and NAOMI DIAMOND\, the Haus of WIG are a compelling display of the power and potential of drag performance. \n\n\n\n\nGET TICKETS
URL:https://dublinpride.ie/event/gatecrashes-haus-of-wig/
LOCATION:The Gate Theatre\, Cavendish Row\, Parnell Square E\, Dublin 1\, D01 WY26\, Ireland
ATTACH;FMTTYPE=image/png:https://dublinpride.ie/wp-content/uploads/2025/05/pride-1.png
END:VEVENT
BEGIN:VEVENT
DTSTART;TZID=Europe/Paris:20250621T193000
DTEND;TZID=Europe/Paris:20250621T230000
DTSTAMP:20260425T123414
CREATED:20250221T140009Z
LAST-MODIFIED:20250611T123943Z
UID:5905-1750534200-1750546800@dublinpride.ie
SUMMARY:M:Brace Pride
DESCRIPTION:Welcome to M:Brace Pride! Join us for a night of celebration of Anthems and Icons at The Sugar Club. After soaring to new heights during our sell out flight in October\, M:Brace airlines is preparing for take off to an exciting new destination\, with our incredible band and vocalists. Jump on board and feel love and positivity in a safe and inclusive space like never before. Don’t miss out on this incredible event\, mark your calendars and get ready to be taken on a pride journey to remember! Proceeds for BeLongTo and The Gay Health Network. Boarding: 7.30 pm; Take off: 8.00 pm. (Art credit: Ciara Tobin). \n\n\n\nOfficial Afterparty: Our official after-party is at Mother Club\, Dublin. Priority and discounted (20%) entry for M:Bracers before midnight. T&Cs apply. Details at Sugar Club door on the night. \n\n\n\n\nBOOK TICKETS
URL:https://dublinpride.ie/event/mbrace-pride/
LOCATION:The Sugar Club\, 8 Leeson Street Lower\, Saint Kevin's\, Dublin 2\, Dublin\, D02 ET97\, Ireland
ATTACH;FMTTYPE=image/png:https://dublinpride.ie/wp-content/uploads/2025/02/events-mbrace.png
END:VEVENT
END:VCALENDAR