BEGIN:VCALENDAR
VERSION:2.0
PRODID:-// - ECPv6.15.16//NONSGML v1.0//EN
CALSCALE:GREGORIAN
METHOD:PUBLISH
X-ORIGINAL-URL:https://dublinpride.ie
X-WR-CALDESC:Events for 
REFRESH-INTERVAL;VALUE=DURATION:PT1H
X-Robots-Tag:noindex
X-PUBLISHED-TTL:PT1H
BEGIN:VTIMEZONE
TZID:Europe/Paris
BEGIN:DAYLIGHT
TZOFFSETFROM:+0100
TZOFFSETTO:+0200
TZNAME:CEST
DTSTART:20240331T010000
END:DAYLIGHT
BEGIN:STANDARD
TZOFFSETFROM:+0200
TZOFFSETTO:+0100
TZNAME:CET
DTSTART:20241027T010000
END:STANDARD
BEGIN:DAYLIGHT
TZOFFSETFROM:+0100
TZOFFSETTO:+0200
TZNAME:CEST
DTSTART:20250330T010000
END:DAYLIGHT
BEGIN:STANDARD
TZOFFSETFROM:+0200
TZOFFSETTO:+0100
TZNAME:CET
DTSTART:20251026T010000
END:STANDARD
BEGIN:DAYLIGHT
TZOFFSETFROM:+0100
TZOFFSETTO:+0200
TZNAME:CEST
DTSTART:20260329T010000
END:DAYLIGHT
BEGIN:STANDARD
TZOFFSETFROM:+0200
TZOFFSETTO:+0100
TZNAME:CET
DTSTART:20261025T010000
END:STANDARD
END:VTIMEZONE
BEGIN:VEVENT
DTSTART;TZID=Europe/Paris:20250603T000000
DTEND;TZID=Europe/Paris:20250701T235959
DTSTAMP:20260423T104400
CREATED:20250529T111709Z
LAST-MODIFIED:20250529T111717Z
UID:6265-1748908800-1751414399@dublinpride.ie
SUMMARY:YES+10: The Journey Continues
DESCRIPTION:Celebrate 10 years since Marriage Equality with our exhibition\, in partnership with GCN.
URL:https://dublinpride.ie/event/yes10-the-journey-continues/
LOCATION:Outhouse\, 105 Capel Street\, Dublin 1\, Dublin 1\, D01 R290\, Ireland
ATTACH;FMTTYPE=image/jpeg:https://dublinpride.ie/wp-content/uploads/2025/05/PHOTO-2025-05-29-12-16-44.jpg
END:VEVENT
BEGIN:VEVENT
DTSTART;TZID=Europe/Paris:20250619T000000
DTEND;TZID=Europe/Paris:20250702T235959
DTSTAMP:20260423T104400
CREATED:20250605T160248Z
LAST-MODIFIED:20250606T113834Z
UID:6320-1750291200-1751500799@dublinpride.ie
SUMMARY:Living Canvas at IMMA 'laying fire' by Jessica Lauren Elizabeth Taylor
DESCRIPTION:laying fire (2023) \n\n\n\nHD video\, colour\, sound; 16:23 minutes \n\n\n\n\n\n\n\n\n\n\n\n\n\n\n\n\n\n\n\n\n\n\n\nJessica Lauren Elizabeth Taylor\, laying fire (2023). Film still courtesy the artist. \n\n\n\nPlease note: The film contains language that some viewers may feel is unsuitable for young children. \n\n\n\nlaying fire by Jessica Lauren Elizabeth Taylor is an experimental memory work on intimacy. Using real life portraits of queer Black Norwegian femmes\, the film explores revolutionary ways of being in partnership with our beloveds and ourselves. The film questions societal expectations of gender and sexuality and how to interrogate these expectations through a queer Black lens. \n\n\n\nThe initiative to archive narratives about queer Afro-Norwegian in the Nordics arose from questions about the politics of intimacy. Queer intimacy in all its forms is politicised in many societies around the world\, from over 200 anti-LGBT bills filed in the United States in 2022 to more than 60 countries across the globe with national laws criminalising same sex relations. Images of queer Black intimacy are rarely shown in a positive\, stable and affirming light\, where stories from these intersecting communities are rarely amplified in mainstream media. laying fire proposes a rebuke to the policing and erasure of queer Black intimacy.
URL:https://dublinpride.ie/event/living-canvas-at-imma-laying-fire-by-jessica-lauren-elizabeth-taylor/
LOCATION:Irish Museum of Modern Art\, Royal Hospital Kilmainham\, Dublin 8\, Dublin 8\, D08 FW31\, Ireland
ATTACH;FMTTYPE=image/png:https://dublinpride.ie/wp-content/uploads/2025/06/Taylor-layingfire-video-still1-.png
END:VEVENT
BEGIN:VEVENT
DTSTART;TZID=Europe/Paris:20250620T173000
DTEND;TZID=Europe/Paris:20250620T203000
DTSTAMP:20260423T104400
CREATED:20250619T131736Z
LAST-MODIFIED:20250619T171915Z
UID:6498-1750440600-1750451400@dublinpride.ie
SUMMARY:Festival Kick Off and "Together" Exhibition Launch
DESCRIPTION:Pop in to Dublin Pride Hub to kick off the festival! Featuring “Together”\, an exhibition by Colm Molloy exploring over 2\,000 years of LGBTQ+ history explored through love stories.
URL:https://dublinpride.ie/event/festival-kick-off-and-together-exhibition-launch/
LOCATION:Dublin Pride Hub\, Pride Hub 44 Clarendon Street\, Dublin 2\, Dublin 2\, D02 YK66\, Ireland
ATTACH;FMTTYPE=image/jpeg:https://dublinpride.ie/wp-content/uploads/2025/06/PHOTO-2025-06-19-17-48-38.jpg
END:VEVENT
BEGIN:VEVENT
DTSTART;TZID=Europe/Paris:20250620T180000
DTEND;TZID=Europe/Paris:20250620T190000
DTSTAMP:20260423T104400
CREATED:20250506T150857Z
LAST-MODIFIED:20250506T150906Z
UID:6086-1750442400-1750446000@dublinpride.ie
SUMMARY:Public Tour: Audio Described Tour of LGBTQIA+ Artworks
DESCRIPTION:Join the National Gallery of Ireland’s highly trained tour guides for an audio described exploration of the LGBTQIA+ collection. Visitors will be guided through key parts of the Gallery building and focus on several highlights on display incorporating audio description and discussion. Devised specifically to enrich the experience of visually impaired visitors to the Gallery.
URL:https://dublinpride.ie/event/public-tour-audio-described-tour-of-lgbtqia-artworks/
LOCATION:National Gallery of Ireland\, Merrion Square W\, Dublin 2\, Dublin\, D02 K303\, Ireland
ATTACH;FMTTYPE=image/jpeg:https://dublinpride.ie/wp-content/uploads/2025/05/visitor-irish-rooms-milltown-photo-jack-caffrey.-the-pimlico-project_0.jpg
END:VEVENT
BEGIN:VEVENT
DTSTART;TZID=Europe/Paris:20250620T183000
DTEND;TZID=Europe/Paris:20250620T200000
DTSTAMP:20260423T104400
CREATED:20250507T131616Z
LAST-MODIFIED:20250507T131622Z
UID:6121-1750444200-1750449600@dublinpride.ie
SUMMARY:GATECRASHES: OUT LOUD
DESCRIPTION:On Friday 20th June\, the Gate will present a special event hosted by RUADHÁN Ó CRÍODÁIN of ShoutOut. OUT LOUD will focus on the power of diverse trans voices. This special fundraising event\, which will benefit local LGBTQ+ organisations including Shoutout\, will be a brilliant curtain-raiser to our Pride Gatecrashes season. \n\n\n\n\nBOOK TICKETS
URL:https://dublinpride.ie/event/gatecrashes-out-loud/
LOCATION:The Gate Theatre\, Cavendish Row\, Parnell Square E\, Dublin 1\, D01 WY26\, Ireland
ATTACH;FMTTYPE=image/png:https://dublinpride.ie/wp-content/uploads/2025/05/pride.png
END:VEVENT
BEGIN:VEVENT
DTSTART;TZID=Europe/Paris:20250620T183000
DTEND;TZID=Europe/Paris:20250620T233000
DTSTAMP:20260423T104400
CREATED:20250526T140620Z
LAST-MODIFIED:20250529T110037Z
UID:6257-1750444200-1750462200@dublinpride.ie
SUMMARY:"SASHAY FOR STRAYS" - Drag Music Bingo and Karaoke
DESCRIPTION:📣 CHARITY FUNDRAISER – FRIDAY\, 20 JUNE 2025 📣 🐾🙏 \n\n\n\nDog Law Ireland and the Irish Dog Father are delighted to announce “SASHAY FOR STRAYS” in aid of four amazing dog rescues: \n\n\n\n\nDOGS ANGELS IRELAND\n\n\n\nWICKLOW ANIMAL WELFARE\n\n\n\nTHE HAVEN RESCUE\n\n\n\nWORKING ANIMAL GUARDIANS\n\n\n\n\nWe have scheduled this event during the month of Pride in the wonderful Street 66 on Parliament Street\, Dublin 2 (dog friendly bar): \n\n\n\n\nDrag music bingo hosted by Victoria Secret (with a surprise doggy twist) – 7:00pm\n\n\n\nKaraoke from approx 9pm (raffle interlude at 10.30pm)\n\n\n\nDJ (Cian Coburn) from approx 11.30pm till 2:00am\n\n\n\n\nThere will also be a quiet area with dogs needing homes from the rescues we are fundraising for and a raffle on the evening. \n\n\n\nTickets are 20euro and all proceeds will be split between the four amazing rescues. \n\n\n\nPlease purchase tickets early to avoid disappointment 🎫 and let’s sashay\, sing and raise lots of money for dogs who need homes 🐾 💃 \n\n\n\n\nGET TICKETS
URL:https://dublinpride.ie/event/sashay-for-strays-drag-music-bingo-and-karaoke/
LOCATION:Street 66\, 33-34 Parliament Street\, Dublin 2\, D02 YP97\, D02 YP97\, Ireland
ATTACH;FMTTYPE=image/png:https://dublinpride.ie/wp-content/uploads/2025/05/sashayforstrays.png
END:VEVENT
BEGIN:VEVENT
DTSTART;TZID=Europe/Paris:20250620T210000
DTEND;TZID=Europe/Paris:20250620T230000
DTSTAMP:20260423T104400
CREATED:20250507T132111Z
LAST-MODIFIED:20250507T132120Z
UID:6124-1750453200-1750460400@dublinpride.ie
SUMMARY:MUSICALS MAYHEM: LE GATEAU CHOCOLAT
DESCRIPTION:The Gate Theatre presents MUSICALS MAYHEM from the adored LE GATEAU CHOCOLAT. Your favourite Black\, bearded\, and bass singing drag icon is Gatecrashing Dublin for the very first time with a night Musical Theatre madness. Expect mountains of laughs\, a stream of nostalgia\, and a tug at the heartstring as Gateau crams every single musical you know and love into an hour of high kicks\, high drag and high glamour. \n\n\n\n\nBOOK TICKETS
URL:https://dublinpride.ie/event/musicals-mayhem-le-gateau-chocolat/
LOCATION:The Gate Theatre\, Cavendish Row\, Parnell Square E\, Dublin 1\, D01 WY26\, Ireland
ATTACH;FMTTYPE=image/png:https://dublinpride.ie/wp-content/uploads/2025/05/MUSICALS-MAYHEM.png
END:VEVENT
END:VCALENDAR