BEGIN:VCALENDAR
VERSION:2.0
PRODID:-// - ECPv6.15.16//NONSGML v1.0//EN
CALSCALE:GREGORIAN
METHOD:PUBLISH
X-ORIGINAL-URL:https://dublinpride.ie
X-WR-CALDESC:Events for 
REFRESH-INTERVAL;VALUE=DURATION:PT1H
X-Robots-Tag:noindex
X-PUBLISHED-TTL:PT1H
BEGIN:VTIMEZONE
TZID:Europe/Paris
BEGIN:DAYLIGHT
TZOFFSETFROM:+0100
TZOFFSETTO:+0200
TZNAME:CEST
DTSTART:20240331T010000
END:DAYLIGHT
BEGIN:STANDARD
TZOFFSETFROM:+0200
TZOFFSETTO:+0100
TZNAME:CET
DTSTART:20241027T010000
END:STANDARD
BEGIN:DAYLIGHT
TZOFFSETFROM:+0100
TZOFFSETTO:+0200
TZNAME:CEST
DTSTART:20250330T010000
END:DAYLIGHT
BEGIN:STANDARD
TZOFFSETFROM:+0200
TZOFFSETTO:+0100
TZNAME:CET
DTSTART:20251026T010000
END:STANDARD
BEGIN:DAYLIGHT
TZOFFSETFROM:+0100
TZOFFSETTO:+0200
TZNAME:CEST
DTSTART:20260329T010000
END:DAYLIGHT
BEGIN:STANDARD
TZOFFSETFROM:+0200
TZOFFSETTO:+0100
TZNAME:CET
DTSTART:20261025T010000
END:STANDARD
END:VTIMEZONE
BEGIN:VEVENT
DTSTART;TZID=Europe/Paris:20250603T000000
DTEND;TZID=Europe/Paris:20250701T235959
DTSTAMP:20260425T204230
CREATED:20250529T111709Z
LAST-MODIFIED:20250529T111717Z
UID:6265-1748908800-1751414399@dublinpride.ie
SUMMARY:YES+10: The Journey Continues
DESCRIPTION:Celebrate 10 years since Marriage Equality with our exhibition\, in partnership with GCN.
URL:https://dublinpride.ie/event/yes10-the-journey-continues/
LOCATION:Outhouse\, 105 Capel Street\, Dublin 1\, Dublin 1\, D01 R290\, Ireland
ATTACH;FMTTYPE=image/jpeg:https://dublinpride.ie/wp-content/uploads/2025/05/PHOTO-2025-05-29-12-16-44.jpg
END:VEVENT
BEGIN:VEVENT
DTSTART;TZID=Europe/Paris:20250605T080000
DTEND;TZID=Europe/Paris:20250605T170000
DTSTAMP:20260425T204230
CREATED:20250605T160511Z
LAST-MODIFIED:20250605T160517Z
UID:6324-1749110400-1749142800@dublinpride.ie
SUMMARY:Biodiversity tour – Pride Edition
DESCRIPTION:Meet at IMMA’s Creativity Hub \n\n\n\nFree\, all welcome! \n\n\n\nJoin us for the Pride edition of a tour of the magnificent formal gardens and meadows\, exploring the flora and fauna of IMMA and the Royal Hospital Kilmainham. We invite attendees to join us for coffee in Courtyard Café after the tour! \n\n\n\n\nBOOK TICKETS
URL:https://dublinpride.ie/event/biodiversity-tour-pride-edition/
LOCATION:Irish Museum of Modern Art\, Royal Hospital Kilmainham\, Dublin 8\, Dublin 8\, D08 FW31\, Ireland
END:VEVENT
BEGIN:VEVENT
DTSTART;TZID=Europe/Paris:20250605T173000
DTEND;TZID=Europe/Paris:20250605T183000
DTSTAMP:20260425T204230
CREATED:20250507T123440Z
LAST-MODIFIED:20250507T123447Z
UID:6105-1749144600-1749148200@dublinpride.ie
SUMMARY:Public Tour: Hard of Hearing Tour of LGBTQIA+ Artworks
DESCRIPTION:This free tour\, exploring some highlights of the National Gallery of Ireland’s LGBTQIA+ collection\, is for individuals who are hard of hearing or have hearing impairments.
URL:https://dublinpride.ie/event/public-tour-hard-of-hearing-tour-of-lgbtqia-artworks/
LOCATION:National Gallery of Ireland\, Merrion Square W\, Dublin 2\, Dublin\, D02 K303\, Ireland
ATTACH;FMTTYPE=image/jpeg:https://dublinpride.ie/wp-content/uploads/2025/05/unnamed-file.jpg
END:VEVENT
END:VCALENDAR